BEGIN:VCALENDAR
VERSION:2.0
PRODID:-//tgpdenver.org//NONSGML kigkonsult.se iCalcreator 2.30.10//
CALSCALE:GREGORIAN
METHOD:PUBLISH
UID:e8ab9774-7d5d-4195-a5b5-c99c6558b734
X-WR-CALDESC:
X-WR-RELCALID:041e44bc38359ac2dd3c156ed6467d4f
X-WR-TIMEZONE:America/Denver
BEGIN:VTIMEZONE
TZID:America/Denver
BEGIN:STANDARD
TZNAME:MST
DTSTART:20261101T020000
TZOFFSETFROM:-0600
TZOFFSETTO:-0700
RDATE:20271107T020000
RDATE:20281105T020000
END:STANDARD
BEGIN:DAYLIGHT
TZNAME:MDT
DTSTART:20270314T020000
TZOFFSETFROM:-0700
TZOFFSETTO:-0600
RDATE:20280312T020000
RDATE:20290311T020000
END:DAYLIGHT
END:VTIMEZONE
BEGIN:VEVENT
UID:de5b09bf-1f29-41c8-9759-17ecaac56997
DTSTAMP:20260423T182306Z
DESCRIPTION:
DTSTART;TZID=America/Denver:20271101T100000
DTEND;TZID=America/Denver:20271101T120000
LOCATION:3rd Floor Art Room
SUMMARY:Hard Times Writing Workshop
END:VEVENT
END:VCALENDAR
