BEGIN:VCALENDAR
VERSION:2.0
PRODID:-//tgpdenver.org//NONSGML kigkonsult.se iCalcreator 2.30.10//
CALSCALE:GREGORIAN
METHOD:PUBLISH
UID:04a56b0e-c8ce-40d6-821a-6fcfac237685
X-WR-CALDESC:Talk with the Spring Institute in the welcome area about healt
 h\, focusing on virus prevention and general wellness to protect yourself 
 and loved ones. 2nd Thursdays\, 11-12
X-WR-RELCALID:c335fbfc3934ea49e205230117625724
X-WR-TIMEZONE:America/Denver
BEGIN:VTIMEZONE
TZID:America/Denver
BEGIN:STANDARD
TZNAME:MST
DTSTART:20271107T020000
TZOFFSETFROM:-0600
TZOFFSETTO:-0700
RDATE:20281105T020000
END:STANDARD
BEGIN:DAYLIGHT
TZNAME:MDT
DTSTART:20270314T020000
TZOFFSETFROM:-0700
TZOFFSETTO:-0600
RDATE:20280312T020000
RDATE:20290311T020000
END:DAYLIGHT
END:VTIMEZONE
BEGIN:VEVENT
UID:bc31e5fb-3d02-41ed-962d-f20eca2877de
DTSTAMP:20260423T201052Z
DESCRIPTION:Talk with the Spring Institute in the welcome area about health
 \, focusing on virus prevention and general wellness to protect yourself a
 nd loved ones. 2nd Thursdays\, 11-12
DTSTART;TZID=America/Denver:20271209T110000
DTEND;TZID=America/Denver:20271209T140000
LOCATION:
SUMMARY:Spring Institute Outreach
END:VEVENT
END:VCALENDAR
