BEGIN:VCALENDAR
VERSION:2.0
PRODID:-//tgpdenver.org//NONSGML kigkonsult.se iCalcreator 2.30.10//
CALSCALE:GREGORIAN
METHOD:PUBLISH
UID:94f9ab45-3b15-4fe0-85cd-680e3f691734
X-WR-CALDESC:
X-WR-RELCALID:2bb76f782abc11dda8c47f9bd4c7e284
X-WR-TIMEZONE:America/Denver
BEGIN:VTIMEZONE
TZID:America/Denver
BEGIN:STANDARD
TZNAME:MST
DTSTART:20271107T020000
TZOFFSETFROM:-0600
TZOFFSETTO:-0700
RDATE:20281105T020000
END:STANDARD
BEGIN:DAYLIGHT
TZNAME:MDT
DTSTART:20280312T020000
TZOFFSETFROM:-0700
TZOFFSETTO:-0600
RDATE:20290311T020000
END:DAYLIGHT
END:VTIMEZONE
BEGIN:VEVENT
UID:4c1c9421-9aa3-4328-bba6-846abe3ddc12
DTSTAMP:20260424T035003Z
DESCRIPTION:
DTSTART;TZID=America/Denver:20280405T093000
DTEND;TZID=America/Denver:20280405T113000
LOCATION:Art Room
SUMMARY:Watercolor
END:VEVENT
END:VCALENDAR
