BEGIN:VCALENDAR
VERSION:2.0
PRODID:-//tgpdenver.org//NONSGML kigkonsult.se iCalcreator 2.30.10//
CALSCALE:GREGORIAN
METHOD:PUBLISH
UID:6b1ff08a-8d39-4998-bfb7-c73c489b4590
X-WR-CALDESC:Talk with the Spring Institute in the welcome area about healt
 h\, focusing on virus prevention and general wellness to protect yourself 
 and loved ones. 2nd Thursdays\, 11-12
X-WR-RELCALID:f79d56764c431116f8fe8e1b7238619b
X-WR-TIMEZONE:America/Denver
BEGIN:VTIMEZONE
TZID:America/Denver
BEGIN:STANDARD
TZNAME:MST
DTSTART:20271107T020000
TZOFFSETFROM:-0600
TZOFFSETTO:-0700
RDATE:20281105T020000
END:STANDARD
BEGIN:DAYLIGHT
TZNAME:MDT
DTSTART:20280312T020000
TZOFFSETFROM:-0700
TZOFFSETTO:-0600
RDATE:20290311T020000
END:DAYLIGHT
END:VTIMEZONE
BEGIN:VEVENT
UID:e942e34f-0939-4fe9-a16b-cbd45283f436
DTSTAMP:20260424T034615Z
DESCRIPTION:Talk with the Spring Institute in the welcome area about health
 \, focusing on virus prevention and general wellness to protect yourself a
 nd loved ones. 2nd Thursdays\, 11-12
DTSTART;TZID=America/Denver:20280413T110000
DTEND;TZID=America/Denver:20280413T140000
LOCATION:
SUMMARY:Spring Institute Outreach
END:VEVENT
END:VCALENDAR
