BEGIN:VCALENDAR
VERSION:2.0
PRODID:-//tgpdenver.org//NONSGML kigkonsult.se iCalcreator 2.30.10//
CALSCALE:GREGORIAN
METHOD:PUBLISH
UID:d03ec506-0dcd-4287-a856-d427488757ce
X-WR-CALDESC:Talk with the Spring Institute in the welcome area about healt
 h\, focusing on virus prevention and general wellness to protect yourself 
 and loved ones. 2nd Thursdays\, 11-12
X-WR-RELCALID:599481d6f75974c366daa3b32a53059d
X-WR-TIMEZONE:America/Denver
BEGIN:VTIMEZONE
TZID:America/Denver
BEGIN:STANDARD
TZNAME:MST
DTSTART:20271107T020000
TZOFFSETFROM:-0600
TZOFFSETTO:-0700
RDATE:20281105T020000
RDATE:20291104T020000
END:STANDARD
BEGIN:DAYLIGHT
TZNAME:MDT
DTSTART:20280312T020000
TZOFFSETFROM:-0700
TZOFFSETTO:-0600
RDATE:20290311T020000
END:DAYLIGHT
END:VTIMEZONE
BEGIN:VEVENT
UID:b1cd1de3-2795-499b-984e-5a9562b471db
DTSTAMP:20260424T053429Z
DESCRIPTION:Talk with the Spring Institute in the welcome area about health
 \, focusing on virus prevention and general wellness to protect yourself a
 nd loved ones. 2nd Thursdays\, 11-12
DTSTART;TZID=America/Denver:20280511T110000
DTEND;TZID=America/Denver:20280511T140000
LOCATION:
SUMMARY:Spring Institute Outreach
END:VEVENT
END:VCALENDAR
