BEGIN:VCALENDAR
VERSION:2.0
PRODID:-//tgpdenver.org//NONSGML kigkonsult.se iCalcreator 2.30.10//
CALSCALE:GREGORIAN
METHOD:PUBLISH
UID:13c4dcff-b997-4cfb-b876-7063ec13b89a
X-WR-CALDESC:Learn about housing- focused case management at TGP and housin
 g-related resources in the community. If there are open spaces available\,
  eligible members can sign up for our Case Manager's caseload. *NOTE: We d
 o not have housing vouchers.
X-WR-RELCALID:d510908513deb9713ae4d1644429c0fa
X-WR-TIMEZONE:America/Denver
BEGIN:VTIMEZONE
TZID:America/Denver
BEGIN:STANDARD
TZNAME:MST
DTSTART:20271107T020000
TZOFFSETFROM:-0600
TZOFFSETTO:-0700
RDATE:20281105T020000
RDATE:20291104T020000
END:STANDARD
BEGIN:DAYLIGHT
TZNAME:MDT
DTSTART:20280312T020000
TZOFFSETFROM:-0700
TZOFFSETTO:-0600
RDATE:20290311T020000
END:DAYLIGHT
END:VTIMEZONE
BEGIN:VEVENT
UID:d0e55727-9ea4-44a2-9bb1-634e9dd58464
DTSTAMP:20260424T053346Z
DESCRIPTION:Learn about housing- focused case management at TGP and housing
 -related resources in the community. If there are open spaces available\, 
 eligible members can sign up for our Case Manager's caseload. *NOTE: We do
  not have housing vouchers.
DTSTART;TZID=America/Denver:20280517T100000
DTEND;TZID=America/Denver:20280517T110000
LOCATION:2nd floor open area
SUMMARY:Info Session: housing-focused case management
END:VEVENT
END:VCALENDAR
