BEGIN:VCALENDAR
VERSION:2.0
PRODID:-//tgpdenver.org//NONSGML kigkonsult.se iCalcreator 2.30.10//
CALSCALE:GREGORIAN
METHOD:PUBLISH
UID:7738fe9d-8cb4-4f9f-9832-83bad5714914
X-WR-CALDESC:Provided by Denver Health staff. Private sexual health tests f
 or Hepatitis C\, chlamydia\, gonorrhea\, syphilis\, and HIV. Free treatmen
 t at Denver Health for those who test positive-- ask for a bus ticket.
X-WR-RELCALID:6e4850cd915f728ce7e811cc6420ca7a
X-WR-TIMEZONE:America/Denver
BEGIN:VTIMEZONE
TZID:America/Denver
BEGIN:STANDARD
TZNAME:MST
DTSTART:20271107T020000
TZOFFSETFROM:-0600
TZOFFSETTO:-0700
RDATE:20281105T020000
RDATE:20291104T020000
END:STANDARD
BEGIN:DAYLIGHT
TZNAME:MDT
DTSTART:20280312T020000
TZOFFSETFROM:-0700
TZOFFSETTO:-0600
RDATE:20290311T020000
END:DAYLIGHT
END:VTIMEZONE
BEGIN:VEVENT
UID:aa114c46-06d9-43f5-a0f6-305e7cd4b002
DTSTAMP:20260424T110905Z
DESCRIPTION:Provided by Denver Health staff. Private sexual health tests fo
 r Hepatitis C\, chlamydia\, gonorrhea\, syphilis\, and HIV. Free treatment
  at Denver Health for those who test positive-- ask for a bus ticket.
DTSTART;TZID=America/Denver:20280817T123000
DTEND;TZID=America/Denver:20280817T163000
LOCATION:
SUMMARY:STI/HIV Testing
END:VEVENT
END:VCALENDAR
