BEGIN:VCALENDAR
VERSION:2.0
PRODID:-//tgpdenver.org//NONSGML kigkonsult.se iCalcreator 2.30.10//
CALSCALE:GREGORIAN
METHOD:PUBLISH
UID:e092f5b8-a9d5-4f5a-8f4d-70a1a1e6c452
X-WR-CALDESC:Support with any insurance need or question. Visit the table r
 ight outside of the Wellness Area. Offers a range of services\, like expla
 ining different health insurance options\, applying for cost-saving progra
 ms\, and coordination of current benefits.
X-WR-RELCALID:af77447adaada13a6f99fd17b4b74cc7
X-WR-TIMEZONE:America/Denver
BEGIN:VTIMEZONE
TZID:America/Denver
BEGIN:STANDARD
TZNAME:MST
DTSTART:20271107T020000
TZOFFSETFROM:-0600
TZOFFSETTO:-0700
RDATE:20281105T020000
RDATE:20291104T020000
END:STANDARD
BEGIN:DAYLIGHT
TZNAME:MDT
DTSTART:20280312T020000
TZOFFSETFROM:-0700
TZOFFSETTO:-0600
RDATE:20290311T020000
END:DAYLIGHT
END:VTIMEZONE
BEGIN:VEVENT
UID:44dccd18-963f-45bd-ad66-dc61a314becb
DTSTAMP:20260424T111156Z
DESCRIPTION:Support with any insurance need or question. Visit the table ri
 ght outside of the Wellness Area. Offers a range of services\, like explai
 ning different health insurance options\, applying for cost-saving program
 s\, and coordination of current benefits.
DTSTART;TZID=America/Denver:20280823T100000
DTEND;TZID=America/Denver:20280823T120000
LOCATION:Welcome Area\, 1st floor
SUMMARY:Community Insurance Options
END:VEVENT
END:VCALENDAR
