BEGIN:VCALENDAR
VERSION:2.0
PRODID:-//tgpdenver.org//NONSGML kigkonsult.se iCalcreator 2.30.10//
CALSCALE:GREGORIAN
METHOD:PUBLISH
UID:7b8bc1f3-86d0-40a1-aedd-57a8193b1cc8
X-WR-CALDESC:Play with air dry clay and make items like earrings\, magnets\
 , and more! Led by volunteer\, Drew
X-WR-RELCALID:af5e691aafa28725346beb1f881ea87e
X-WR-TIMEZONE:America/Denver
BEGIN:VTIMEZONE
TZID:America/Denver
BEGIN:STANDARD
TZNAME:MST
DTSTART:20271107T020000
TZOFFSETFROM:-0600
TZOFFSETTO:-0700
RDATE:20281105T020000
RDATE:20291104T020000
END:STANDARD
BEGIN:DAYLIGHT
TZNAME:MDT
DTSTART:20280312T020000
TZOFFSETFROM:-0700
TZOFFSETTO:-0600
RDATE:20290311T020000
END:DAYLIGHT
END:VTIMEZONE
BEGIN:VEVENT
UID:b2dbadc6-8402-4394-b4ca-fa8b7406f064
DTSTAMP:20260424T110732Z
DESCRIPTION:Play with air dry clay and make items like earrings\, magnets\,
  and more! Led by volunteer\, Drew
DTSTART;TZID=America/Denver:20280825T110000
DTEND;TZID=America/Denver:20280825T120000
LOCATION:3rd Floor Art Room
SUMMARY:Clay Class
END:VEVENT
END:VCALENDAR
