BEGIN:VCALENDAR
VERSION:2.0
PRODID:-//tgpdenver.org//NONSGML kigkonsult.se iCalcreator 2.30.10//
CALSCALE:GREGORIAN
METHOD:PUBLISH
UID:d583b9c9-840c-4766-a759-c2f07f30b43d
X-WR-CALDESC:Member-led group! Read and discuss poetry. Open to all experie
 nce levels.
X-WR-RELCALID:47783623f5238e199c3a338f7a45b597
X-WR-TIMEZONE:America/Denver
BEGIN:VTIMEZONE
TZID:America/Denver
BEGIN:STANDARD
TZNAME:MST
DTSTART:20271107T020000
TZOFFSETFROM:-0600
TZOFFSETTO:-0700
RDATE:20281105T020000
RDATE:20291104T020000
END:STANDARD
BEGIN:DAYLIGHT
TZNAME:MDT
DTSTART:20280312T020000
TZOFFSETFROM:-0700
TZOFFSETTO:-0600
RDATE:20290311T020000
RDATE:20300310T020000
END:DAYLIGHT
END:VTIMEZONE
BEGIN:VEVENT
UID:136d5e9b-feb1-4837-baae-c15bdd29de6f
DTSTAMP:20260424T130000Z
DESCRIPTION:Member-led group! Read and discuss poetry. Open to all experien
 ce levels.
DTSTART;TZID=America/Denver:20280914T110000
DTEND;TZID=America/Denver:20280914T120000
LOCATION:3rd Floor Art Room
SUMMARY:Poetry Salon
END:VEVENT
END:VCALENDAR
