BEGIN:VCALENDAR
VERSION:2.0
PRODID:-//tgpdenver.org//NONSGML kigkonsult.se iCalcreator 2.30.10//
CALSCALE:GREGORIAN
METHOD:PUBLISH
UID:a2c30079-7ec7-4736-a2f5-057a44961cad
X-WR-CALDESC:Talk with the Spring Institute in the welcome area about healt
 h\, focusing on virus prevention and general wellness to protect yourself 
 and loved ones. 2nd Thursdays\, 11-12
X-WR-RELCALID:c11a07fa8877240a84e87387c95e5449
X-WR-TIMEZONE:America/Denver
BEGIN:VTIMEZONE
TZID:America/Denver
BEGIN:STANDARD
TZNAME:MST
DTSTART:20271107T020000
TZOFFSETFROM:-0600
TZOFFSETTO:-0700
RDATE:20281105T020000
RDATE:20291104T020000
END:STANDARD
BEGIN:DAYLIGHT
TZNAME:MDT
DTSTART:20280312T020000
TZOFFSETFROM:-0700
TZOFFSETTO:-0600
RDATE:20290311T020000
RDATE:20300310T020000
END:DAYLIGHT
END:VTIMEZONE
BEGIN:VEVENT
UID:6dcc7439-3404-4d54-8ee9-65c49c0a78df
DTSTAMP:20260424T130112Z
DESCRIPTION:Talk with the Spring Institute in the welcome area about health
 \, focusing on virus prevention and general wellness to protect yourself a
 nd loved ones. 2nd Thursdays\, 11-12
DTSTART;TZID=America/Denver:20280914T110000
DTEND;TZID=America/Denver:20280914T140000
LOCATION:
SUMMARY:Spring Institute Outreach
END:VEVENT
END:VCALENDAR
