BEGIN:VCALENDAR
VERSION:2.0
PRODID:-//tgpdenver.org//NONSGML kigkonsult.se iCalcreator 2.30.10//
CALSCALE:GREGORIAN
METHOD:PUBLISH
UID:cd712ff8-0377-4b77-a36b-cef434bddcf1
X-WR-CALDESC:Learn about housing- focused case management at TGP and housin
 g-related resources in the community. If there are open spaces available\,
  eligible members can sign up for our Case Manager's caseload. *NOTE: We d
 o not have housing vouchers.
X-WR-RELCALID:22d5fb09a2d0c1e765f51355de920221
X-WR-TIMEZONE:America/Denver
BEGIN:VTIMEZONE
TZID:America/Denver
BEGIN:STANDARD
TZNAME:MST
DTSTART:20271107T020000
TZOFFSETFROM:-0600
TZOFFSETTO:-0700
RDATE:20281105T020000
RDATE:20291104T020000
END:STANDARD
BEGIN:DAYLIGHT
TZNAME:MDT
DTSTART:20280312T020000
TZOFFSETFROM:-0700
TZOFFSETTO:-0600
RDATE:20290311T020000
RDATE:20300310T020000
END:DAYLIGHT
END:VTIMEZONE
BEGIN:VEVENT
UID:518f7012-1d35-4d50-a038-f60e249d4f64
DTSTAMP:20260424T144412Z
DESCRIPTION:Learn about housing- focused case management at TGP and housing
 -related resources in the community. If there are open spaces available\, 
 eligible members can sign up for our Case Manager's caseload. *NOTE: We do
  not have housing vouchers.
DTSTART;TZID=America/Denver:20281004T100000
DTEND;TZID=America/Denver:20281004T110000
LOCATION:2nd floor open area
SUMMARY:Info Session: housing-focused case management
END:VEVENT
END:VCALENDAR
