BEGIN:VCALENDAR
VERSION:2.0
PRODID:-//tgpdenver.org//NONSGML kigkonsult.se iCalcreator 2.30.10//
CALSCALE:GREGORIAN
METHOD:PUBLISH
UID:33107c6c-3098-467a-b86f-d023601c88c3
X-WR-CALDESC:Play with air dry clay and make items like earrings\, magnets\
 , and more! Led by volunteer\, Drew
X-WR-RELCALID:eacf8a07518d432a654dcfe958706fbb
X-WR-TIMEZONE:America/Denver
BEGIN:VTIMEZONE
TZID:America/Denver
BEGIN:STANDARD
TZNAME:MST
DTSTART:20271107T020000
TZOFFSETFROM:-0600
TZOFFSETTO:-0700
RDATE:20281105T020000
RDATE:20291104T020000
END:STANDARD
BEGIN:DAYLIGHT
TZNAME:MDT
DTSTART:20280312T020000
TZOFFSETFROM:-0700
TZOFFSETTO:-0600
RDATE:20290311T020000
RDATE:20300310T020000
END:DAYLIGHT
END:VTIMEZONE
BEGIN:VEVENT
UID:5880e091-d2af-4d19-b759-28fd7203340a
DTSTAMP:20260424T160952Z
DESCRIPTION:Play with air dry clay and make items like earrings\, magnets\,
  and more! Led by volunteer\, Drew
DTSTART;TZID=America/Denver:20281103T110000
DTEND;TZID=America/Denver:20281103T120000
LOCATION:3rd Floor Art Room
SUMMARY:Clay Class
END:VEVENT
END:VCALENDAR
