BEGIN:VCALENDAR
VERSION:2.0
PRODID:-//tgpdenver.org//NONSGML kigkonsult.se iCalcreator 2.30.10//
CALSCALE:GREGORIAN
METHOD:PUBLISH
UID:c094aec0-7378-47f6-b0f7-479cf0f06d24
X-WR-CALDESC:Provided by Denver Health staff. Private sexual health tests f
 or Hepatitis C\, chlamydia\, gonorrhea\, syphilis\, and HIV. Free treatmen
 t at Denver Health for those who test positive-- ask for a bus ticket.
X-WR-RELCALID:3078e07f132a94064bd7614da94174d0
X-WR-TIMEZONE:America/Denver
BEGIN:VTIMEZONE
TZID:America/Denver
BEGIN:STANDARD
TZNAME:MST
DTSTART:20281105T020000
TZOFFSETFROM:-0600
TZOFFSETTO:-0700
RDATE:20291104T020000
END:STANDARD
BEGIN:DAYLIGHT
TZNAME:MDT
DTSTART:20280312T020000
TZOFFSETFROM:-0700
TZOFFSETTO:-0600
RDATE:20290311T020000
RDATE:20300310T020000
END:DAYLIGHT
END:VTIMEZONE
BEGIN:VEVENT
UID:78977f0a-1d4d-424d-a3c9-31186d5ff482
DTSTAMP:20260424T162843Z
DESCRIPTION:Provided by Denver Health staff. Private sexual health tests fo
 r Hepatitis C\, chlamydia\, gonorrhea\, syphilis\, and HIV. Free treatment
  at Denver Health for those who test positive-- ask for a bus ticket.
DTSTART;TZID=America/Denver:20281116T123000
DTEND;TZID=America/Denver:20281116T163000
LOCATION:
SUMMARY:STI/HIV Testing
END:VEVENT
END:VCALENDAR
