BEGIN:VCALENDAR
VERSION:2.0
PRODID:-//tgpdenver.org//NONSGML kigkonsult.se iCalcreator 2.30.10//
CALSCALE:GREGORIAN
METHOD:PUBLISH
UID:7d9f9be2-9821-44f9-a9b2-e97ac1bc862c
X-WR-CALDESC:Learn about and sign-up for support with intimate Partner Viol
 ence\, mental health\, and substance use services with Servicios de la Raz
 a.
X-WR-RELCALID:592cd841f8bdcdf9f90d4ea1e145c9a6
X-WR-TIMEZONE:America/Denver
BEGIN:VTIMEZONE
TZID:America/Denver
BEGIN:STANDARD
TZNAME:MST
DTSTART:20281105T020000
TZOFFSETFROM:-0600
TZOFFSETTO:-0700
RDATE:20291104T020000
END:STANDARD
BEGIN:DAYLIGHT
TZNAME:MDT
DTSTART:20280312T020000
TZOFFSETFROM:-0700
TZOFFSETTO:-0600
RDATE:20290311T020000
RDATE:20300310T020000
END:DAYLIGHT
END:VTIMEZONE
BEGIN:VEVENT
UID:5731eafe-7de9-4aa7-b86d-7befddc008bf
DTSTAMP:20260424T163656Z
DESCRIPTION:Learn about and sign-up for support with intimate Partner Viole
 nce\, mental health\, and substance use services with Servicios de la Raza
 .
DTSTART;TZID=America/Denver:20281116T130000
DTEND;TZID=America/Denver:20281116T140000
LOCATION:
SUMMARY:VISTAS outreach and intake
END:VEVENT
END:VCALENDAR
