BEGIN:VCALENDAR
VERSION:2.0
PRODID:-//tgpdenver.org//NONSGML kigkonsult.se iCalcreator 2.30.10//
CALSCALE:GREGORIAN
METHOD:PUBLISH
UID:3ae7d6e2-9195-442c-960b-fb6ef455aa23
X-WR-CALDESC:Member-led workshop! Use plastic rexlace to make a keychain. D
 esigns and help will be available.
X-WR-RELCALID:8661b00d70f6f067cb742cb508c03f08
X-WR-TIMEZONE:America/Denver
BEGIN:VTIMEZONE
TZID:America/Denver
BEGIN:STANDARD
TZNAME:MST
DTSTART:20281105T020000
TZOFFSETFROM:-0600
TZOFFSETTO:-0700
RDATE:20291104T020000
END:STANDARD
BEGIN:DAYLIGHT
TZNAME:MDT
DTSTART:20290311T020000
TZOFFSETFROM:-0700
TZOFFSETTO:-0600
RDATE:20300310T020000
END:DAYLIGHT
END:VTIMEZONE
BEGIN:VEVENT
UID:97f5d2ab-67e7-41dc-8257-36e343db1502
DTSTAMP:20260425T014233Z
DESCRIPTION:Member-led workshop! Use plastic rexlace to make a keychain. De
 signs and help will be available.
DTSTART;TZID=America/Denver:20290409T100000
DTEND;TZID=America/Denver:20290409T110000
LOCATION:3rd Floor Art Room
SUMMARY:Keychain Workshop
END:VEVENT
END:VCALENDAR
