BEGIN:VCALENDAR
VERSION:2.0
PRODID:-//tgpdenver.org//NONSGML kigkonsult.se iCalcreator 2.30.10//
CALSCALE:GREGORIAN
METHOD:PUBLISH
UID:dd3f8f9c-8ed3-4a8a-a7ca-271a9c5c66d5
X-WR-CALDESC:
X-WR-RELCALID:30c9750a0989139d05bf3777a82cda53
X-WR-TIMEZONE:America/Denver
BEGIN:VTIMEZONE
TZID:America/Denver
BEGIN:STANDARD
TZNAME:MST
DTSTART:20281105T020000
TZOFFSETFROM:-0600
TZOFFSETTO:-0700
RDATE:20291104T020000
END:STANDARD
BEGIN:DAYLIGHT
TZNAME:MDT
DTSTART:20290311T020000
TZOFFSETFROM:-0700
TZOFFSETTO:-0600
RDATE:20300310T020000
END:DAYLIGHT
END:VTIMEZONE
BEGIN:VEVENT
UID:bc16dfa7-5fb1-4742-a45f-b53e7404bab7
DTSTAMP:20260425T034231Z
DESCRIPTION:
DTSTART;TZID=America/Denver:20290502T093000
DTEND;TZID=America/Denver:20290502T113000
LOCATION:Art Room
SUMMARY:Watercolor
END:VEVENT
END:VCALENDAR
