BEGIN:VCALENDAR
VERSION:2.0
PRODID:-//tgpdenver.org//NONSGML kigkonsult.se iCalcreator 2.30.10//
CALSCALE:GREGORIAN
METHOD:PUBLISH
UID:dd603205-a3ee-4892-ab30-4f69c9e2321f
X-WR-CALDESC:Member-led group! Read and discuss poetry. Open to all experie
 nce levels.
X-WR-RELCALID:e71e56580e1813114e2b1863c341d333
X-WR-TIMEZONE:America/Denver
BEGIN:VTIMEZONE
TZID:America/Denver
BEGIN:STANDARD
TZNAME:MST
DTSTART:20291104T020000
TZOFFSETFROM:-0600
TZOFFSETTO:-0700
RDATE:20301103T020000
END:STANDARD
BEGIN:DAYLIGHT
TZNAME:MDT
DTSTART:20290311T020000
TZOFFSETFROM:-0700
TZOFFSETTO:-0600
RDATE:20300310T020000
RDATE:20310309T020000
END:DAYLIGHT
END:VTIMEZONE
BEGIN:VEVENT
UID:df3f3a8f-8cee-47ad-9bcc-4afee490e14d
DTSTAMP:20260425T164629Z
DESCRIPTION:Member-led group! Read and discuss poetry. Open to all experien
 ce levels.
DTSTART;TZID=America/Denver:20291213T110000
DTEND;TZID=America/Denver:20291213T120000
LOCATION:3rd Floor Art Room
SUMMARY:Poetry Salon
END:VEVENT
END:VCALENDAR
