BEGIN:VCALENDAR
VERSION:2.0
PRODID:-//tgpdenver.org//NONSGML kigkonsult.se iCalcreator 2.30.10//
CALSCALE:GREGORIAN
METHOD:PUBLISH
UID:8b733dcd-6d21-43bc-af4a-776b26e310fd
X-WR-CALDESC:
X-WR-RELCALID:3803dc83459d07a8147dba3aacd3a42b
X-WR-TIMEZONE:America/Denver
BEGIN:VTIMEZONE
TZID:America/Denver
BEGIN:STANDARD
TZNAME:MST
DTSTART:20291104T020000
TZOFFSETFROM:-0600
TZOFFSETTO:-0700
RDATE:20301103T020000
END:STANDARD
BEGIN:DAYLIGHT
TZNAME:MDT
DTSTART:20290311T020000
TZOFFSETFROM:-0700
TZOFFSETTO:-0600
RDATE:20300310T020000
RDATE:20310309T020000
END:DAYLIGHT
END:VTIMEZONE
BEGIN:VEVENT
UID:0a62e842-d561-41f1-bcca-4ba667f966a5
DTSTAMP:20260425T163355Z
DESCRIPTION:
DTSTART;TZID=America/Denver:20291219T083000
DTEND;TZID=America/Denver:20291219T153000
LOCATION:Wellness Area
SUMMARY:Zip Dentistry
END:VEVENT
END:VCALENDAR
