BEGIN:VCALENDAR
VERSION:2.0
PRODID:-//tgpdenver.org//NONSGML kigkonsult.se iCalcreator 2.30.10//
CALSCALE:GREGORIAN
METHOD:PUBLISH
UID:6f9a6928-2a1c-4556-b9e9-89663ef28db4
X-WR-CALDESC:
X-WR-RELCALID:b979def4b331a88c57d67b84efb1eddc
X-WR-TIMEZONE:America/Denver
BEGIN:VTIMEZONE
TZID:America/Denver
BEGIN:STANDARD
TZNAME:MST
DTSTART:20291104T020000
TZOFFSETFROM:-0600
TZOFFSETTO:-0700
RDATE:20301103T020000
END:STANDARD
BEGIN:DAYLIGHT
TZNAME:MDT
DTSTART:20290311T020000
TZOFFSETFROM:-0700
TZOFFSETTO:-0600
RDATE:20300310T020000
RDATE:20310309T020000
END:DAYLIGHT
END:VTIMEZONE
BEGIN:VEVENT
UID:116c7210-d914-4bfd-a84b-74b79202f23f
DTSTAMP:20260425T182042Z
DESCRIPTION:
DTSTART;TZID=America/Denver:20300104T100000
DTEND;TZID=America/Denver:20300104T130000
LOCATION:Art Studio
SUMMARY:STI/HIV Testing
END:VEVENT
END:VCALENDAR
