BEGIN:VCALENDAR
VERSION:2.0
PRODID:-//tgpdenver.org//NONSGML kigkonsult.se iCalcreator 2.30.10//
CALSCALE:GREGORIAN
METHOD:PUBLISH
UID:26ca383b-45d8-4216-8a3e-156b1343cf79
X-WR-CALDESC:Medicated Assisted Treatment outreach from Colorado University
 's Addiction Research and Treatment Services
X-WR-RELCALID:dbefbeb0023e4d5d144486c24e1160c2
X-WR-TIMEZONE:America/Denver
BEGIN:VTIMEZONE
TZID:America/Denver
BEGIN:STANDARD
TZNAME:MST
DTSTART:20291104T020000
TZOFFSETFROM:-0600
TZOFFSETTO:-0700
RDATE:20301103T020000
END:STANDARD
BEGIN:DAYLIGHT
TZNAME:MDT
DTSTART:20290311T020000
TZOFFSETFROM:-0700
TZOFFSETTO:-0600
RDATE:20300310T020000
RDATE:20310309T020000
END:DAYLIGHT
END:VTIMEZONE
BEGIN:VEVENT
UID:a897ca21-1e36-4e52-a64f-6b88aa52c4dc
DTSTAMP:20260425T181725Z
DESCRIPTION:Medicated Assisted Treatment outreach from Colorado University'
 s Addiction Research and Treatment Services
DTSTART;TZID=America/Denver:20300115T083000
DTEND;TZID=America/Denver:20300115T093000
LOCATION:Welcome Area
SUMMARY:M.A.T. with CU ARTS
END:VEVENT
END:VCALENDAR
