BEGIN:VCALENDAR
VERSION:2.0
PRODID:-//tgpdenver.org//NONSGML kigkonsult.se iCalcreator 2.30.10//
CALSCALE:GREGORIAN
METHOD:PUBLISH
UID:95dbc330-b471-40fb-8d62-428fb7f34fae
X-WR-CALDESC:Meet with writers from the University of Denver Writing Progra
 m for help with any project: letters\, e-mails\, fiction\, memoirs\, poetr
 y\, cover letters\, children's stories\, essays\, and more...
X-WR-RELCALID:145899fe6e093effd15b466311dc48c3
X-WR-TIMEZONE:America/Denver
BEGIN:VTIMEZONE
TZID:America/Denver
BEGIN:STANDARD
TZNAME:MST
DTSTART:20291104T020000
TZOFFSETFROM:-0600
TZOFFSETTO:-0700
RDATE:20301103T020000
END:STANDARD
BEGIN:DAYLIGHT
TZNAME:MDT
DTSTART:20290311T020000
TZOFFSETFROM:-0700
TZOFFSETTO:-0600
RDATE:20300310T020000
RDATE:20310309T020000
END:DAYLIGHT
END:VTIMEZONE
BEGIN:VEVENT
UID:dbdb9ea0-7f46-4d0e-a502-b17f06fd3e81
DTSTAMP:20260425T202130Z
DESCRIPTION:Meet with writers from the University of Denver Writing Program
  for help with any project: letters\, e-mails\, fiction\, memoirs\, poetry
 \, cover letters\, children's stories\, essays\, and more...
DTSTART;TZID=America/Denver:20300205T100000
DTEND;TZID=America/Denver:20300205T113000
LOCATION:Art Room
SUMMARY:Drop-in Writing
END:VEVENT
END:VCALENDAR
