BEGIN:VCALENDAR
VERSION:2.0
PRODID:-//tgpdenver.org//NONSGML kigkonsult.se iCalcreator 2.30.10//
CALSCALE:GREGORIAN
METHOD:PUBLISH
UID:b08fcee6-ed58-4c0d-9eda-946d7fc33c97
X-WR-CALDESC:Knit & crochet in community. Led by Sonja\, a TGP member and v
 olunteer.
X-WR-RELCALID:5bbf1d52c0ab1c70ee4d0b1aaf43cbb1
X-WR-TIMEZONE:America/Denver
BEGIN:VTIMEZONE
TZID:America/Denver
BEGIN:STANDARD
TZNAME:MST
DTSTART:20291104T020000
TZOFFSETFROM:-0600
TZOFFSETTO:-0700
RDATE:20301103T020000
END:STANDARD
BEGIN:DAYLIGHT
TZNAME:MDT
DTSTART:20290311T020000
TZOFFSETFROM:-0700
TZOFFSETTO:-0600
RDATE:20300310T020000
RDATE:20310309T020000
END:DAYLIGHT
END:VTIMEZONE
BEGIN:VEVENT
UID:2db6b2da-56e6-431a-b5fc-cb2e2d311504
DTSTAMP:20260425T202237Z
DESCRIPTION:Knit & crochet in community. Led by Sonja\, a TGP member and vo
 lunteer.
DTSTART;TZID=America/Denver:20300220T130000
DTEND;TZID=America/Denver:20300220T150000
LOCATION:3rd floor art studio
SUMMARY:Stitch circle
END:VEVENT
END:VCALENDAR
