BEGIN:VCALENDAR
VERSION:2.0
PRODID:-//tgpdenver.org//NONSGML kigkonsult.se iCalcreator 2.30.10//
CALSCALE:GREGORIAN
METHOD:PUBLISH
UID:162c3a01-f58f-4b66-ba50-ed16c62e5ac8
X-WR-CALDESC:Provided by Denver Health staff. Private sexual health tests f
 or Hepatitis C\, chlamydia\, gonorrhea\, syphilis\, and HIV. Free treatmen
 t at Denver Health for those who test positive-- ask for a bus ticket.
X-WR-RELCALID:ffcd3fdd471c0084075d7a6d4fb7f9fe
X-WR-TIMEZONE:America/Denver
BEGIN:VTIMEZONE
TZID:America/Denver
BEGIN:STANDARD
TZNAME:MST
DTSTART:20291104T020000
TZOFFSETFROM:-0600
TZOFFSETTO:-0700
RDATE:20301103T020000
END:STANDARD
BEGIN:DAYLIGHT
TZNAME:MDT
DTSTART:20290311T020000
TZOFFSETFROM:-0700
TZOFFSETTO:-0600
RDATE:20300310T020000
RDATE:20310309T020000
END:DAYLIGHT
END:VTIMEZONE
BEGIN:VEVENT
UID:ff968c68-7aaa-4040-a9f3-99a705859a48
DTSTAMP:20260425T202129Z
DESCRIPTION:Provided by Denver Health staff. Private sexual health tests fo
 r Hepatitis C\, chlamydia\, gonorrhea\, syphilis\, and HIV. Free treatment
  at Denver Health for those who test positive-- ask for a bus ticket.
DTSTART;TZID=America/Denver:20300221T123000
DTEND;TZID=America/Denver:20300221T163000
LOCATION:
SUMMARY:STI/HIV Testing
END:VEVENT
END:VCALENDAR
