BEGIN:VCALENDAR
VERSION:2.0
PRODID:-//tgpdenver.org//NONSGML kigkonsult.se iCalcreator 2.30.10//
CALSCALE:GREGORIAN
METHOD:PUBLISH
UID:cbfaba2f-4718-445a-9490-7ad1f60ec37b
X-WR-CALDESC:Learn about and sign-up for support with intimate Partner Viol
 ence\, mental health\, and substance use services with Servicios de la Raz
 a.
X-WR-RELCALID:843a5b5a08c96c9adf3d8aff2fda6607
X-WR-TIMEZONE:America/Denver
BEGIN:VTIMEZONE
TZID:America/Denver
BEGIN:STANDARD
TZNAME:MST
DTSTART:20291104T020000
TZOFFSETFROM:-0600
TZOFFSETTO:-0700
RDATE:20301103T020000
END:STANDARD
BEGIN:DAYLIGHT
TZNAME:MDT
DTSTART:20290311T020000
TZOFFSETFROM:-0700
TZOFFSETTO:-0600
RDATE:20300310T020000
RDATE:20310309T020000
END:DAYLIGHT
END:VTIMEZONE
BEGIN:VEVENT
UID:1fae1e9e-41c0-4297-abe9-4d7953b2cfb5
DTSTAMP:20260425T202655Z
DESCRIPTION:Learn about and sign-up for support with intimate Partner Viole
 nce\, mental health\, and substance use services with Servicios de la Raza
 .
DTSTART;TZID=America/Denver:20300221T130000
DTEND;TZID=America/Denver:20300221T140000
LOCATION:
SUMMARY:VISTAS outreach and intake
END:VEVENT
END:VCALENDAR
