BEGIN:VCALENDAR
VERSION:2.0
PRODID:-//tgpdenver.org//NONSGML kigkonsult.se iCalcreator 2.30.10//
CALSCALE:GREGORIAN
METHOD:PUBLISH
UID:242208de-7f9b-47b9-b78f-769943613024
X-WR-CALDESC:Learn practical beginner sewing skills to mend clothing and te
 nts\, embroider\, etc. with only a needle and thread.
X-WR-RELCALID:28f170c01490dbcd235fa004e9468b9c
X-WR-TIMEZONE:America/Denver
BEGIN:VTIMEZONE
TZID:America/Denver
BEGIN:STANDARD
TZNAME:MST
DTSTART:20291104T020000
TZOFFSETFROM:-0600
TZOFFSETTO:-0700
RDATE:20301103T020000
END:STANDARD
BEGIN:DAYLIGHT
TZNAME:MDT
DTSTART:20300310T020000
TZOFFSETFROM:-0700
TZOFFSETTO:-0600
RDATE:20310309T020000
END:DAYLIGHT
END:VTIMEZONE
BEGIN:VEVENT
UID:4e7b435a-52f6-4a9a-9a35-e1bdd9601b52
DTSTAMP:20260425T221835Z
DESCRIPTION:Learn practical beginner sewing skills to mend clothing and ten
 ts\, embroider\, etc. with only a needle and thread.
DTSTART;TZID=America/Denver:20300321T130000
DTEND;TZID=America/Denver:20300321T140000
LOCATION:TGP Art Room
SUMMARY:Hand Sewing Workshop
END:VEVENT
END:VCALENDAR
