BEGIN:VCALENDAR
VERSION:2.0
PRODID:-//tgpdenver.org//NONSGML kigkonsult.se iCalcreator 2.30.10//
CALSCALE:GREGORIAN
METHOD:PUBLISH
UID:9159defb-522f-485b-b40e-d28218cc8e84
X-WR-CALDESC:
X-WR-RELCALID:a1198f4a670890ac9d88e9f48f51a905
X-WR-TIMEZONE:America/Denver
BEGIN:VTIMEZONE
TZID:America/Denver
BEGIN:STANDARD
TZNAME:MST
DTSTART:20291104T020000
TZOFFSETFROM:-0600
TZOFFSETTO:-0700
RDATE:20301103T020000
END:STANDARD
BEGIN:DAYLIGHT
TZNAME:MDT
DTSTART:20300310T020000
TZOFFSETFROM:-0700
TZOFFSETTO:-0600
RDATE:20310309T020000
END:DAYLIGHT
END:VTIMEZONE
BEGIN:VEVENT
UID:12f4f386-9920-4a7f-b0dd-d6aa784d5afe
DTSTAMP:20260426T001830Z
DESCRIPTION:
DTSTART;TZID=America/Denver:20300409T110000
DTEND;TZID=America/Denver:20300409T120000
LOCATION:Board Room
SUMMARY:Native American Talking Circle
END:VEVENT
END:VCALENDAR
