BEGIN:VCALENDAR
VERSION:2.0
PRODID:-//tgpdenver.org//NONSGML kigkonsult.se iCalcreator 2.30.10//
CALSCALE:GREGORIAN
METHOD:PUBLISH
UID:fbdb5fcf-45ad-4bdc-a8c4-c353bcc92dfd
X-WR-CALDESC:
X-WR-RELCALID:101b31b1c54435e99cfd0f51ca6a924f
X-WR-TIMEZONE:America/Denver
BEGIN:VTIMEZONE
TZID:America/Denver
BEGIN:STANDARD
TZNAME:MST
DTSTART:20291104T020000
TZOFFSETFROM:-0600
TZOFFSETTO:-0700
RDATE:20301103T020000
END:STANDARD
BEGIN:DAYLIGHT
TZNAME:MDT
DTSTART:20300310T020000
TZOFFSETFROM:-0700
TZOFFSETTO:-0600
RDATE:20310309T020000
END:DAYLIGHT
END:VTIMEZONE
BEGIN:VEVENT
UID:2ed70b75-5dda-49d1-9c2c-8e2c460b2906
DTSTAMP:20260426T001831Z
DESCRIPTION:
DTSTART;TZID=America/Denver:20300417T083000
DTEND;TZID=America/Denver:20300417T153000
LOCATION:Wellness Area
SUMMARY:Zip Dentistry
END:VEVENT
END:VCALENDAR
