BEGIN:VCALENDAR
VERSION:2.0
PRODID:-//tgpdenver.org//NONSGML kigkonsult.se iCalcreator 2.30.10//
CALSCALE:GREGORIAN
METHOD:PUBLISH
UID:b3ba00c1-71e7-4ade-845b-69bec5759a90
X-WR-CALDESC:Provided by Denver Health staff. Private sexual health tests f
 or Hepatitis C\, chlamydia\, gonorrhea\, syphilis\, and HIV. Free treatmen
 t at Denver Health for those who test positive-- ask for a bus ticket.
X-WR-RELCALID:e96ed2394b732ec5b12bf5fcfa6dcea8
X-WR-TIMEZONE:America/Denver
BEGIN:VTIMEZONE
TZID:America/Denver
BEGIN:STANDARD
TZNAME:MST
DTSTART:20291104T020000
TZOFFSETFROM:-0600
TZOFFSETTO:-0700
RDATE:20301103T020000
END:STANDARD
BEGIN:DAYLIGHT
TZNAME:MDT
DTSTART:20300310T020000
TZOFFSETFROM:-0700
TZOFFSETTO:-0600
RDATE:20310309T020000
END:DAYLIGHT
END:VTIMEZONE
BEGIN:VEVENT
UID:48194c31-4f12-450c-9a26-d7a4496df4df
DTSTAMP:20260426T002441Z
DESCRIPTION:Provided by Denver Health staff. Private sexual health tests fo
 r Hepatitis C\, chlamydia\, gonorrhea\, syphilis\, and HIV. Free treatment
  at Denver Health for those who test positive-- ask for a bus ticket.
DTSTART;TZID=America/Denver:20300418T123000
DTEND;TZID=America/Denver:20300418T163000
LOCATION:
SUMMARY:STI/HIV Testing
END:VEVENT
END:VCALENDAR
