BEGIN:VCALENDAR
VERSION:2.0
PRODID:-//tgpdenver.org//NONSGML kigkonsult.se iCalcreator 2.30.10//
CALSCALE:GREGORIAN
METHOD:PUBLISH
UID:2a74d06e-4884-4b7d-a6d9-9ebcacceeb53
X-WR-CALDESC:Medicated Assisted Treatment outreach from Colorado University
 's Addiction Research and Treatment Services
X-WR-RELCALID:86ec47f61325b093ba7b84863dc5457c
X-WR-TIMEZONE:America/Denver
BEGIN:VTIMEZONE
TZID:America/Denver
BEGIN:STANDARD
TZNAME:MST
DTSTART:20291104T020000
TZOFFSETFROM:-0600
TZOFFSETTO:-0700
RDATE:20301103T020000
END:STANDARD
BEGIN:DAYLIGHT
TZNAME:MDT
DTSTART:20300310T020000
TZOFFSETFROM:-0700
TZOFFSETTO:-0600
RDATE:20310309T020000
END:DAYLIGHT
END:VTIMEZONE
BEGIN:VEVENT
UID:ffa93826-a3b0-4e1f-bb2b-7823414b6e95
DTSTAMP:20260426T002023Z
DESCRIPTION:Medicated Assisted Treatment outreach from Colorado University'
 s Addiction Research and Treatment Services
DTSTART;TZID=America/Denver:20300423T083000
DTEND;TZID=America/Denver:20300423T093000
LOCATION:Welcome Area
SUMMARY:M.A.T. with CU ARTS
END:VEVENT
END:VCALENDAR
