BEGIN:VCALENDAR
VERSION:2.0
PRODID:-//tgpdenver.org//NONSGML kigkonsult.se iCalcreator 2.30.10//
CALSCALE:GREGORIAN
METHOD:PUBLISH
UID:82f0215c-1f8e-4cd3-8002-ccf38d2ea827
X-WR-CALDESC:Support with any insurance need or question. Visit the table r
 ight outside of the Wellness Area. Offers a range of services\, like expla
 ining different health insurance options\, applying for cost-saving progra
 ms\, and coordination of current benefits.
X-WR-RELCALID:14308ad7de5c60a43df2ef1122524369
X-WR-TIMEZONE:America/Denver
BEGIN:VTIMEZONE
TZID:America/Denver
BEGIN:STANDARD
TZNAME:MST
DTSTART:20291104T020000
TZOFFSETFROM:-0600
TZOFFSETTO:-0700
RDATE:20301103T020000
END:STANDARD
BEGIN:DAYLIGHT
TZNAME:MDT
DTSTART:20300310T020000
TZOFFSETFROM:-0700
TZOFFSETTO:-0600
RDATE:20310309T020000
END:DAYLIGHT
END:VTIMEZONE
BEGIN:VEVENT
UID:3e03a75b-3a37-4bb1-8047-04af784b439a
DTSTAMP:20260426T021623Z
DESCRIPTION:Support with any insurance need or question. Visit the table ri
 ght outside of the Wellness Area. Offers a range of services\, like explai
 ning different health insurance options\, applying for cost-saving program
 s\, and coordination of current benefits.
DTSTART;TZID=America/Denver:20300501T100000
DTEND;TZID=America/Denver:20300501T120000
LOCATION:Welcome Area\, 1st floor
SUMMARY:Community Insurance Options
END:VEVENT
END:VCALENDAR
