BEGIN:VCALENDAR
VERSION:2.0
PRODID:-//tgpdenver.org//NONSGML kigkonsult.se iCalcreator 2.30.10//
CALSCALE:GREGORIAN
METHOD:PUBLISH
UID:617133cd-6e9e-4cda-9ebc-9690b879f6cc
X-WR-CALDESC:Learn about housing- focused case management at TGP and housin
 g-related resources in the community. If there are open spaces available\,
  eligible members can sign up for our Case Manager's caseload. *NOTE: We d
 o not have housing vouchers.
X-WR-RELCALID:02c6313980daf6301d53f2815d4321d5
X-WR-TIMEZONE:America/Denver
BEGIN:VTIMEZONE
TZID:America/Denver
BEGIN:STANDARD
TZNAME:MST
DTSTART:20291104T020000
TZOFFSETFROM:-0600
TZOFFSETTO:-0700
RDATE:20301103T020000
RDATE:20311102T020000
END:STANDARD
BEGIN:DAYLIGHT
TZNAME:MDT
DTSTART:20300310T020000
TZOFFSETFROM:-0700
TZOFFSETTO:-0600
RDATE:20310309T020000
END:DAYLIGHT
END:VTIMEZONE
BEGIN:VEVENT
UID:56030517-42a7-4c18-809c-1347f8d80727
DTSTAMP:20260426T021855Z
DESCRIPTION:Learn about housing- focused case management at TGP and housing
 -related resources in the community. If there are open spaces available\, 
 eligible members can sign up for our Case Manager's caseload. *NOTE: We do
  not have housing vouchers.
DTSTART;TZID=America/Denver:20300515T100000
DTEND;TZID=America/Denver:20300515T110000
LOCATION:2nd floor open area
SUMMARY:Info Session: housing-focused case management
END:VEVENT
END:VCALENDAR
