BEGIN:VCALENDAR
VERSION:2.0
PRODID:-//tgpdenver.org//NONSGML kigkonsult.se iCalcreator 2.30.10//
CALSCALE:GREGORIAN
METHOD:PUBLISH
UID:e81e62bd-d2da-4e8f-842b-bb62426b7644
X-WR-CALDESC:Support with any insurance need or question. Visit the table r
 ight outside of the Wellness Area. Offers a range of services\, like expla
 ining different health insurance options\, applying for cost-saving progra
 ms\, and coordination of current benefits.
X-WR-RELCALID:b9b82fc964f77e2906a43a875afcc4fb
X-WR-TIMEZONE:America/Denver
BEGIN:VTIMEZONE
TZID:America/Denver
BEGIN:STANDARD
TZNAME:MST
DTSTART:20291104T020000
TZOFFSETFROM:-0600
TZOFFSETTO:-0700
RDATE:20301103T020000
RDATE:20311102T020000
END:STANDARD
BEGIN:DAYLIGHT
TZNAME:MDT
DTSTART:20300310T020000
TZOFFSETFROM:-0700
TZOFFSETTO:-0600
RDATE:20310309T020000
END:DAYLIGHT
END:VTIMEZONE
BEGIN:VEVENT
UID:8a6c9e23-978f-436d-ba12-4edb25edb3b2
DTSTAMP:20260426T040729Z
DESCRIPTION:Support with any insurance need or question. Visit the table ri
 ght outside of the Wellness Area. Offers a range of services\, like explai
 ning different health insurance options\, applying for cost-saving program
 s\, and coordination of current benefits.
DTSTART;TZID=America/Denver:20300605T100000
DTEND;TZID=America/Denver:20300605T120000
LOCATION:Welcome Area\, 1st floor
SUMMARY:Community Insurance Options
END:VEVENT
END:VCALENDAR
