BEGIN:VCALENDAR
VERSION:2.0
PRODID:-//tgpdenver.org//NONSGML kigkonsult.se iCalcreator 2.30.10//
CALSCALE:GREGORIAN
METHOD:PUBLISH
UID:0cfebd8e-b974-43d5-b90f-0f4e15ab0fc6
X-WR-CALDESC:
X-WR-RELCALID:be2266ebc551cc7bcdc2ce4b11444bf9
X-WR-TIMEZONE:America/Denver
BEGIN:VTIMEZONE
TZID:America/Denver
BEGIN:STANDARD
TZNAME:MST
DTSTART:20291104T020000
TZOFFSETFROM:-0600
TZOFFSETTO:-0700
RDATE:20301103T020000
RDATE:20311102T020000
END:STANDARD
BEGIN:DAYLIGHT
TZNAME:MDT
DTSTART:20300310T020000
TZOFFSETFROM:-0700
TZOFFSETTO:-0600
RDATE:20310309T020000
END:DAYLIGHT
END:VTIMEZONE
BEGIN:VEVENT
UID:e4360f58-bca6-4572-8da6-768cd86f616b
DTSTAMP:20260426T040215Z
DESCRIPTION:
DTSTART;TZID=America/Denver:20300619T083000
DTEND;TZID=America/Denver:20300619T153000
LOCATION:Wellness Area
SUMMARY:Zip Dentistry
END:VEVENT
END:VCALENDAR
