BEGIN:VCALENDAR
VERSION:2.0
PRODID:-//tgpdenver.org//NONSGML kigkonsult.se iCalcreator 2.30.10//
CALSCALE:GREGORIAN
METHOD:PUBLISH
UID:574e7fc5-0763-471c-9393-0495f16f8c47
X-WR-CALDESC:Medicated Assisted Treatment outreach from Colorado University
 's Addiction Research and Treatment Services
X-WR-RELCALID:afcccf0927fc10241054cb67a16c1815
X-WR-TIMEZONE:America/Denver
BEGIN:VTIMEZONE
TZID:America/Denver
BEGIN:STANDARD
TZNAME:MST
DTSTART:20251102T020000
TZOFFSETFROM:-0600
TZOFFSETTO:-0700
RDATE:20261101T020000
RDATE:20271107T020000
END:STANDARD
BEGIN:DAYLIGHT
TZNAME:MDT
DTSTART:20260308T020000
TZOFFSETFROM:-0700
TZOFFSETTO:-0600
RDATE:20270314T020000
END:DAYLIGHT
END:VTIMEZONE
BEGIN:VEVENT
UID:fdecbf3e-12f6-48a1-bf07-5feb4332015b
DTSTAMP:20260422T103845Z
DESCRIPTION:Medicated Assisted Treatment outreach from Colorado University'
 s Addiction Research and Treatment Services
DTSTART;TZID=America/Denver:20260519T083000
DTEND;TZID=America/Denver:20260519T093000
LOCATION:Welcome Area
SUMMARY:M.A.T. with CU ARTS
END:VEVENT
END:VCALENDAR
